BEGIN:VCALENDAR
VERSION:2.0
PRODID:-//Tukios.com/
BEGIN:VEVENT
UID:bda00528-72c0-4c0e-84ec-031436c3b5fc@www.mccabewaldronfh.com
DTSTAMP:20260421T220006Z
DTSTART:20260425T170000Z
DTEND:20260425T180000Z
SUMMARY:Funeral Service
DESCRIPTION:
URL:https://www.mccabewaldronfh.com/obituaries/pastor-arthur-hugill
LOCATION:    Mahaffey PA 15757
GEO:40.8728411;-78.724196
END:VEVENT
END:VCALENDAR