BEGIN:VCALENDAR
VERSION:2.0
PRODID:-//Tukios.com/
BEGIN:VEVENT
UID:0f3cccff-4969-45c8-a2f5-5b443c6f22be@www.mccabewaldronfh.com
DTSTAMP:20260421T220200Z
DTSTART:20260425T150000Z
DTEND:20260425T170000Z
SUMMARY:Visitation
DESCRIPTION:
URL:https://www.mccabewaldronfh.com/obituaries/pastor-arthur-hugill
LOCATION: 19 Chapel Lane  Mahaffey PA 15757
GEO:40.8728411;-78.724196
END:VEVENT
END:VCALENDAR