BEGIN:VCALENDAR
VERSION:2.0
PRODID:-//Tukios.com/
BEGIN:VEVENT
UID:1f0cfd34-c3d9-417b-8fe9-d29fdf2ef604@www.mccabewaldronfh.com
DTSTAMP:20260421T215654Z
DTSTART:20260424T180000Z
DTEND:20260424T230000Z
SUMMARY:Visitation
DESCRIPTION:
URL:https://www.mccabewaldronfh.com/obituaries/pastor-arthur-hugill
LOCATION:Calvary Chapel Church Mahaffey 19 Chapel Lane  Mahaffey PA 15757
GEO:40.8728411;-78.724196
END:VEVENT
END:VCALENDAR